Name | Last modified | Size | Description | |
---|---|---|---|---|
Parent Directory | - | |||
install-summary.dcf | 17-Jul-2024 00:42 | 271 | ||
install-out.txt | 17-Jul-2024 00:42 | 1.0K | ||
checksrc-summary.dcf | 17-Jul-2024 00:42 | 454 | ||
checksrc-out.txt | 17-Jul-2024 00:42 | 7.9K | ||
buildsrc-summary.dcf | 17-Jul-2024 00:42 | 431 | ||
buildsrc-out.txt | 17-Jul-2024 00:42 | 1.3K | ||
buildbin-summary.dcf | 17-Jul-2024 00:42 | 536 | ||
buildbin-out.txt | 17-Jul-2024 00:42 | 1.2K | ||