Name | Last modified | Size | Description | |
---|---|---|---|---|
Parent Directory | - | |||
checksrc-out.txt | 09-Jul-2024 00:45 | 7.9K | ||
buildsrc-out.txt | 09-Jul-2024 00:45 | 1.2K | ||
install-out.txt | 07-Jul-2024 00:44 | 1.0K | ||
checksrc-summary.dcf | 09-Jul-2024 00:45 | 415 | ||
buildsrc-summary.dcf | 09-Jul-2024 00:45 | 409 | ||
install-summary.dcf | 07-Jul-2024 00:44 | 249 | ||