Name | Last modified | Size | Description | |
---|---|---|---|---|
Parent Directory | - | |||
buildbin-out.txt | 17-Jul-2024 00:43 | 1.2K | ||
buildbin-summary.dcf | 17-Jul-2024 00:43 | 535 | ||
checksrc-summary.dcf | 17-Jul-2024 00:43 | 453 | ||
checksrc-out.txt | 17-Jul-2024 00:43 | 7.8K | ||
buildsrc-summary.dcf | 17-Jul-2024 00:43 | 430 | ||
buildsrc-out.txt | 17-Jul-2024 00:43 | 1.3K | ||
install-summary.dcf | 17-Jul-2024 00:43 | 270 | ||
install-out.txt | 17-Jul-2024 00:43 | 1.0K | ||