Name | Last modified | Size | Description | |
---|---|---|---|---|
Parent Directory | - | |||
install-out.txt | 12-Jul-2024 01:00 | 11K | ||
install-summary.dcf | 12-Jul-2024 01:00 | 274 | ||
buildsrc-summary.dcf | 12-Jul-2024 01:00 | 459 | ||
buildsrc-out.txt | 12-Jul-2024 01:00 | 877 | ||
checksrc-out.txt | 12-Jul-2024 01:00 | 9.4K | ||
checksrc-summary.dcf | 12-Jul-2024 01:00 | 465 | ||
buildbin-summary.dcf | 12-Jul-2024 01:00 | 521 | ||
buildbin-out.txt | 12-Jul-2024 01:00 | 11K | ||