Name | Last modified | Size | Description | |
---|---|---|---|---|
Parent Directory | - | |||
checksrc-out.txt | 06-Jul-2024 00:44 | 3.4K | ||
checksrc-summary.dcf | 06-Jul-2024 00:44 | 393 | ||
buildsrc-summary.dcf | 06-Jul-2024 00:44 | 395 | ||
buildsrc-out.txt | 06-Jul-2024 00:44 | 845 | ||
install-summary.dcf | 06-Jul-2024 00:44 | 241 | ||
install-out.txt | 06-Jul-2024 00:44 | 933 | ||