Name | Last modified | Size | Description | |
---|---|---|---|---|
Parent Directory | - | |||
buildsrc-out.txt | 27-Jun-2024 00:37 | 826 | ||
buildsrc-summary.dcf | 27-Jun-2024 00:37 | 421 | ||
checksrc-out.txt | 27-Jun-2024 00:37 | 8.2K | ||
checksrc-summary.dcf | 27-Jun-2024 00:37 | 416 | ||
install-out.txt | 27-Jun-2024 00:37 | 1.3K | ||
install-summary.dcf | 27-Jun-2024 00:37 | 257 | ||