Index of /checkResults/devel/bioc-LATEST/ILoReg/raw-results/lconway
Name
Last modified
Size
Description
Parent Directory
-
buildsrc-out.txt
27-Jun-2024 00:38
1.7K
buildsrc-summary.dcf
27-Jun-2024 00:38
340
install-out.txt
27-Jun-2024 00:38
1.5K
install-summary.dcf
27-Jun-2024 00:38
269