Name | Last modified | Size | Description | |
---|---|---|---|---|
Parent Directory | - | |||
buildsrc-out.txt | 16-May-2024 02:46 | 813 | ||
buildsrc-summary.dcf | 16-May-2024 02:46 | 425 | ||
checksrc-out.txt | 16-May-2024 02:46 | 8.6K | ||
checksrc-summary.dcf | 16-May-2024 02:46 | 453 | ||
install-out.txt | 16-May-2024 02:46 | 1.0K | ||
install-summary.dcf | 16-May-2024 02:46 | 268 | ||