Index of /checkResults/devel/bioc-LATEST/ILoReg/raw-results/kjohnson3
Name
Last modified
Size
Description
Parent Directory
-
buildsrc-out.txt
27-Jun-2024 00:39
1.8K
buildsrc-summary.dcf
27-Jun-2024 00:39
340
install-out.txt
27-Jun-2024 00:39
1.6K
install-summary.dcf
27-Jun-2024 00:39
269