Index of /checkResults/devel/bioc-LATEST/IFAA/raw-results/lconway
Name
Last modified
Size
Description
Parent Directory
-
buildsrc-out.txt
28-Jun-2024 00:38
1.6K
buildsrc-summary.dcf
28-Jun-2024 00:38
335
install-out.txt
28-Jun-2024 00:38
1.4K
install-summary.dcf
28-Jun-2024 00:38
264