Index of /checkResults/devel/bioc-LATEST/IFAA/raw-results/kjohnson3
Name
Last modified
Size
Description
Parent Directory
-
buildsrc-out.txt
28-Jun-2024 00:39
1.7K
buildsrc-summary.dcf
28-Jun-2024 00:39
335
install-out.txt
28-Jun-2024 00:39
1.5K
install-summary.dcf
28-Jun-2024 00:39
264