Name | Last modified | Size | Description | |
---|---|---|---|---|
Parent Directory | - | |||
install-summary.dcf | 17-Jul-2024 00:39 | 266 | ||
checksrc-summary.dcf | 17-Jul-2024 00:39 | 429 | ||
buildsrc-summary.dcf | 17-Jul-2024 00:39 | 435 | ||
buildsrc-out.txt | 17-Jul-2024 00:39 | 909 | ||
install-out.txt | 17-Jul-2024 00:39 | 964 | ||
checksrc-out.txt | 17-Jul-2024 00:39 | 5.7K | ||