Name | Last modified | Size | Description | |
---|---|---|---|---|
Parent Directory | - | |||
install-summary.dcf | 12-Jun-2024 04:40 | 273 | ||
checksrc-summary.dcf | 12-Jun-2024 04:40 | 458 | ||
buildsrc-summary.dcf | 12-Jun-2024 04:40 | 463 | ||
buildbin-summary.dcf | 12-Jun-2024 04:40 | 531 | ||
buildsrc-out.txt | 12-Jun-2024 04:40 | 890 | ||
install-out.txt | 12-Jun-2024 04:40 | 971 | ||
buildbin-out.txt | 12-Jun-2024 04:40 | 1.1K | ||
checksrc-out.txt | 12-Jun-2024 04:40 | 3.6K | ||