Index of /checkResults/devel/bioc-LATEST/HelloRanges/raw-results/merida1
Name
Last modified
Size
Description
Parent Directory
-
install-summary.dcf
12-Jun-2024 04:41
277
buildsrc-summary.dcf
12-Jun-2024 04:41
352
install-out.txt
12-Jun-2024 04:41
1.0K
buildsrc-out.txt
12-Jun-2024 04:41
4.5K