Name | Last modified | Size | Description | |
---|---|---|---|---|
Parent Directory | - | |||
buildbin-out.txt | 28-Jun-2024 00:38 | 3.7K | ||
buildbin-summary.dcf | 28-Jun-2024 00:38 | 506 | ||
buildsrc-out.txt | 28-Jun-2024 00:38 | 893 | ||
buildsrc-summary.dcf | 28-Jun-2024 00:38 | 415 | ||
checksrc-out.txt | 28-Jun-2024 00:38 | 4.1K | ||
checksrc-summary.dcf | 28-Jun-2024 00:38 | 427 | ||
install-out.txt | 28-Jun-2024 00:38 | 1.9K | ||
install-summary.dcf | 28-Jun-2024 00:38 | 261 | ||