Name | Last modified | Size | Description | |
---|---|---|---|---|
Parent Directory | - | |||
buildsrc-out.txt | 16-May-2024 02:46 | 894 | ||
buildsrc-summary.dcf | 16-May-2024 02:46 | 415 | ||
checksrc-out.txt | 16-May-2024 02:46 | 4.0K | ||
checksrc-summary.dcf | 16-May-2024 02:46 | 435 | ||
install-out.txt | 16-May-2024 02:46 | 1.8K | ||
install-summary.dcf | 16-May-2024 02:46 | 262 | ||