Name | Last modified | Size | Description | |
---|---|---|---|---|
Parent Directory | - | |||
kunpeng2/ | 16-May-2024 02:46 | - | ||
palomino4/ | 12-Jun-2024 04:40 | - | ||
merida1/ | 12-Jun-2024 04:41 | - | ||
kjohnson1/ | 12-Jun-2024 04:43 | - | ||
info.dcf | 28-Jun-2024 00:36 | 253 | ||
nebbiolo2/ | 28-Jun-2024 00:37 | - | ||
lconway/ | 28-Jun-2024 00:38 | - | ||
kjohnson3/ | 28-Jun-2024 00:39 | - | ||