Name | Last modified | Size | Description | |
---|---|---|---|---|
Parent Directory | - | |||
install-out.txt | 06-Jul-2024 00:40 | 58K | ||
install-summary.dcf | 06-Jul-2024 00:40 | 278 | ||
buildsrc-out.txt | 06-Jul-2024 00:40 | 797 | ||
buildsrc-summary.dcf | 06-Jul-2024 00:40 | 465 | ||
checksrc-summary.dcf | 06-Jul-2024 00:40 | 473 | ||
checksrc-out.txt | 06-Jul-2024 00:40 | 9.1K | ||
buildbin-out.txt | 06-Jul-2024 00:40 | 58K | ||
buildbin-summary.dcf | 06-Jul-2024 00:40 | 533 | ||