Name | Last modified | Size | Description | |
---|---|---|---|---|
Parent Directory | - | |||
buildbin-out.txt | 06-Jul-2024 00:40 | 4.6K | ||
install-out.txt | 06-Jul-2024 00:40 | 4.4K | ||
checksrc-out.txt | 06-Jul-2024 00:40 | 4.3K | ||
buildsrc-out.txt | 06-Jul-2024 00:40 | 936 | ||
buildbin-summary.dcf | 06-Jul-2024 00:40 | 518 | ||
checksrc-summary.dcf | 06-Jul-2024 00:40 | 457 | ||
buildsrc-summary.dcf | 06-Jul-2024 00:40 | 456 | ||
install-summary.dcf | 06-Jul-2024 00:40 | 273 | ||