Name | Last modified | Size | Description | |
---|---|---|---|---|
Parent Directory | - | |||
install-summary.dcf | 29-Jun-2024 00:37 | 287 | ||
install-out.txt | 29-Jun-2024 00:37 | 1.0K | ||
checksrc-summary.dcf | 29-Jun-2024 00:37 | 476 | ||
checksrc-out.txt | 29-Jun-2024 00:37 | 4.4K | ||
buildsrc-summary.dcf | 29-Jun-2024 00:37 | 466 | ||
buildsrc-out.txt | 29-Jun-2024 00:37 | 886 | ||