Name | Last modified | Size | Description | |
---|---|---|---|---|
Parent Directory | - | |||
buildbin-out.txt | 31-May-2024 01:35 | 3.8K | ||
buildbin-summary.dcf | 31-May-2024 01:35 | 550 | ||
buildsrc-out.txt | 12-Jun-2024 04:40 | 5.7K | ||
buildsrc-summary.dcf | 12-Jun-2024 04:40 | 387 | ||
checksrc-out.txt | 31-May-2024 01:35 | 6.0K | ||
checksrc-summary.dcf | 31-May-2024 01:35 | 471 | ||
install-out.txt | 12-Jun-2024 04:40 | 3.6K | ||
install-summary.dcf | 12-Jun-2024 04:40 | 280 | ||