Name | Last modified | Size | Description | |
---|---|---|---|---|
Parent Directory | - | |||
buildbin-out.txt | 31-May-2024 01:36 | 5.1K | ||
buildbin-summary.dcf | 31-May-2024 01:36 | 566 | ||
buildsrc-out.txt | 12-Jun-2024 04:41 | 5.5K | ||
buildsrc-summary.dcf | 12-Jun-2024 04:41 | 356 | ||
checksrc-out.txt | 31-May-2024 01:36 | 5.4K | ||
checksrc-summary.dcf | 31-May-2024 01:36 | 468 | ||
install-out.txt | 12-Jun-2024 04:41 | 3.1K | ||
install-summary.dcf | 12-Jun-2024 04:41 | 281 | ||