Name | Last modified | Size | Description | |
---|---|---|---|---|
Parent Directory | - | |||
buildsrc-out.txt | 16-May-2024 02:46 | 1.1K | ||
buildsrc-summary.dcf | 16-May-2024 02:46 | 453 | ||
checksrc-out.txt | 16-May-2024 02:46 | 4.9K | ||
checksrc-summary.dcf | 16-May-2024 02:46 | 483 | ||
install-out.txt | 16-May-2024 02:46 | 1.0K | ||
install-summary.dcf | 16-May-2024 02:46 | 286 | ||