Name | Last modified | Size | Description | |
---|---|---|---|---|
Parent Directory | - | |||
install-summary.dcf | 06-Jul-2024 00:40 | 294 | ||
install-out.txt | 06-Jul-2024 00:40 | 7.6K | ||
checksrc-summary.dcf | 06-Jul-2024 00:40 | 499 | ||
checksrc-out.txt | 06-Jul-2024 00:40 | 6.5K | ||
buildsrc-summary.dcf | 06-Jul-2024 00:40 | 499 | ||
buildsrc-out.txt | 06-Jul-2024 00:40 | 927 | ||
buildbin-summary.dcf | 06-Jul-2024 00:40 | 581 | ||
buildbin-out.txt | 06-Jul-2024 00:40 | 7.8K | ||