Name | Last modified | Size | Description | |
---|---|---|---|---|
Parent Directory | - | |||
install-summary.dcf | 12-Jun-2024 04:40 | 288 | ||
install-out.txt | 12-Jun-2024 04:40 | 7.5K | ||
checksrc-summary.dcf | 12-Jun-2024 04:40 | 487 | ||
checksrc-out.txt | 12-Jun-2024 04:40 | 6.5K | ||
buildsrc-summary.dcf | 12-Jun-2024 04:40 | 493 | ||
buildsrc-out.txt | 12-Jun-2024 04:40 | 921 | ||
buildbin-summary.dcf | 12-Jun-2024 04:40 | 576 | ||
buildbin-out.txt | 12-Jun-2024 04:40 | 7.7K | ||