Name | Last modified | Size | Description | |
---|---|---|---|---|
Parent Directory | - | |||
install-summary.dcf | 17-Jul-2024 00:39 | 279 | ||
buildsrc-summary.dcf | 17-Jul-2024 00:39 | 453 | ||
checksrc-summary.dcf | 17-Jul-2024 00:39 | 454 | ||
buildsrc-out.txt | 17-Jul-2024 00:39 | 900 | ||
checksrc-out.txt | 17-Jul-2024 00:39 | 5.9K | ||
install-out.txt | 17-Jul-2024 00:39 | 6.2K | ||