Name | Last modified | Size | Description | |
---|---|---|---|---|
Parent Directory | - | |||
buildbin-out.txt | 12-Jun-2024 04:41 | 6.1K | ||
buildbin-summary.dcf | 12-Jun-2024 04:41 | 590 | ||
buildsrc-out.txt | 12-Jun-2024 04:41 | 886 | ||
buildsrc-summary.dcf | 12-Jun-2024 04:41 | 458 | ||
checksrc-out.txt | 12-Jun-2024 04:41 | 6.2K | ||
checksrc-summary.dcf | 12-Jun-2024 04:41 | 484 | ||
install-out.txt | 12-Jun-2024 04:41 | 3.9K | ||
install-summary.dcf | 12-Jun-2024 04:41 | 289 | ||