Name | Last modified | Size | Description | |
---|---|---|---|---|
Parent Directory | - | |||
buildbin-out.txt | 17-Jul-2024 00:43 | 6.0K | ||
buildbin-summary.dcf | 17-Jul-2024 00:43 | 589 | ||
buildsrc-out.txt | 17-Jul-2024 00:43 | 886 | ||
buildsrc-summary.dcf | 17-Jul-2024 00:43 | 457 | ||
checksrc-out.txt | 17-Jul-2024 00:43 | 5.9K | ||
checksrc-summary.dcf | 17-Jul-2024 00:43 | 484 | ||
install-out.txt | 17-Jul-2024 00:43 | 3.9K | ||
install-summary.dcf | 17-Jul-2024 00:43 | 289 | ||