Name | Last modified | Size | Description | |
---|---|---|---|---|
Parent Directory | - | |||
install-summary.dcf | 29-Jun-2024 00:37 | 256 | ||
install-out.txt | 29-Jun-2024 00:37 | 961 | ||
buildsrc-out.txt | 29-Jun-2024 00:37 | 918 | ||
buildsrc-summary.dcf | 29-Jun-2024 00:37 | 417 | ||
checksrc-summary.dcf | 29-Jun-2024 00:37 | 408 | ||
checksrc-out.txt | 29-Jun-2024 00:37 | 3.7K | ||