Name | Last modified | Size | Description | |
---|---|---|---|---|
Parent Directory | - | |||
install-out.txt | 17-Jul-2024 00:39 | 13K | ||
checksrc-out.txt | 17-Jul-2024 00:39 | 6.9K | ||
buildsrc-out.txt | 17-Jul-2024 00:39 | 923 | ||
buildsrc-summary.dcf | 17-Jul-2024 00:39 | 424 | ||
checksrc-summary.dcf | 17-Jul-2024 00:39 | 414 | ||
install-summary.dcf | 17-Jul-2024 00:39 | 260 | ||