Index of /checkResults/devel/bioc-LATEST/GNOSIS/raw-results/lconway
Name
Last modified
Size
Description
Parent Directory
-
install-summary.dcf
29-Jun-2024 00:39
268
install-out.txt
29-Jun-2024 00:39
2.7K
buildsrc-summary.dcf
29-Jun-2024 00:39
339
buildsrc-out.txt
29-Jun-2024 00:39
2.9K