Index of /checkResults/devel/bioc-LATEST/GNOSIS/raw-results/kjohnson3
Name
Last modified
Size
Description
Parent Directory
-
install-summary.dcf
29-Jun-2024 00:40
268
install-out.txt
29-Jun-2024 00:40
2.8K
buildsrc-summary.dcf
29-Jun-2024 00:40
339
buildsrc-out.txt
29-Jun-2024 00:40
3.0K