Name | Last modified | Size | Description | |
---|---|---|---|---|
Parent Directory | - | |||
install-summary.dcf | 06-Jul-2024 00:44 | 257 | ||
buildsrc-summary.dcf | 06-Jul-2024 00:44 | 328 | ||
checksrc-summary.dcf | 05-Jul-2024 00:44 | 421 | ||
install-out.txt | 06-Jul-2024 00:44 | 669 | ||
buildsrc-out.txt | 06-Jul-2024 00:44 | 943 | ||
checksrc-out.txt | 05-Jul-2024 00:44 | 6.9K | ||