Name | Last modified | Size | Description | |
---|---|---|---|---|
Parent Directory | - | |||
buildsrc-out.txt | 09-Jul-2024 00:44 | 819 | ||
buildsrc-summary.dcf | 09-Jul-2024 00:44 | 401 | ||
checksrc-out.txt | 09-Jul-2024 00:44 | 5.6K | ||
checksrc-summary.dcf | 09-Jul-2024 00:44 | 400 | ||
install-out.txt | 07-Jul-2024 00:44 | 2.0K | ||
install-summary.dcf | 07-Jul-2024 00:44 | 245 | ||