Name | Last modified | Size | Description | |
---|---|---|---|---|
Parent Directory | - | |||
install-summary.dcf | 06-Jul-2024 00:44 | 271 | ||
install-out.txt | 06-Jul-2024 00:44 | 708 | ||
checksrc-summary.dcf | 05-Jul-2024 00:44 | 448 | ||
checksrc-out.txt | 05-Jul-2024 00:44 | 3.2K | ||
buildsrc-summary.dcf | 09-Jul-2024 00:44 | 342 | ||
buildsrc-out.txt | 09-Jul-2024 00:44 | 933 | ||