Name | Last modified | Size | Description | |
---|---|---|---|---|
Parent Directory | - | |||
checksrc-out.txt | 09-Jul-2024 00:44 | 12K | ||
checksrc-summary.dcf | 09-Jul-2024 00:44 | 400 | ||
buildsrc-summary.dcf | 09-Jul-2024 00:44 | 403 | ||
buildsrc-out.txt | 09-Jul-2024 00:44 | 853 | ||
install-summary.dcf | 07-Jul-2024 00:44 | 244 | ||
install-out.txt | 07-Jul-2024 00:44 | 931 | ||