Name | Last modified | Size | Description | |
---|---|---|---|---|
Parent Directory | - | |||
buildbin-out.txt | 20-Jun-2024 01:11 | 4.8K | ||
buildbin-summary.dcf | 20-Jun-2024 01:11 | 607 | ||
buildsrc-out.txt | 20-Jun-2024 01:11 | 961 | ||
buildsrc-summary.dcf | 20-Jun-2024 01:11 | 465 | ||
checksrc-out.txt | 20-Jun-2024 01:11 | 4.6K | ||
checksrc-summary.dcf | 20-Jun-2024 01:11 | 495 | ||
install-out.txt | 20-Jun-2024 01:11 | 2.6K | ||
install-summary.dcf | 20-Jun-2024 01:11 | 294 | ||