Name | Last modified | Size | Description | |
---|---|---|---|---|
Parent Directory | - | |||
checksrc-out.txt | 09-Jul-2024 00:44 | 3.5K | ||
install-out.txt | 07-Jul-2024 00:44 | 961 | ||
buildsrc-out.txt | 09-Jul-2024 00:44 | 830 | ||
checksrc-summary.dcf | 09-Jul-2024 00:44 | 441 | ||
buildsrc-summary.dcf | 09-Jul-2024 00:44 | 432 | ||
install-summary.dcf | 07-Jul-2024 00:44 | 265 | ||