Name | Last modified | Size | Description | |
---|---|---|---|---|
Parent Directory | - | |||
buildsrc-out.txt | 12-Jul-2024 00:59 | 888 | ||
buildsrc-summary.dcf | 12-Jul-2024 00:59 | 418 | ||
checksrc-out.txt | 12-Jul-2024 00:59 | 3.5K | ||
checksrc-summary.dcf | 12-Jul-2024 00:59 | 408 | ||
install-out.txt | 12-Jul-2024 00:59 | 1.0K | ||
install-summary.dcf | 12-Jul-2024 00:59 | 256 | ||