Name | Last modified | Size | Description | |
---|---|---|---|---|
Parent Directory | - | |||
install-out.txt | 09-Jul-2024 00:43 | 1.0K | ||
install-summary.dcf | 09-Jul-2024 00:43 | 266 | ||
buildsrc-summary.dcf | 09-Jul-2024 00:43 | 422 | ||
buildsrc-out.txt | 09-Jul-2024 00:43 | 874 | ||
checksrc-out.txt | 09-Jul-2024 00:43 | 3.5K | ||
checksrc-summary.dcf | 09-Jul-2024 00:43 | 438 | ||
buildbin-summary.dcf | 09-Jul-2024 00:43 | 521 | ||
buildbin-out.txt | 09-Jul-2024 00:43 | 1.2K | ||