Name | Last modified | Size | Description | |
---|---|---|---|---|
Parent Directory | - | |||
buildsrc-out.txt | 12-Jul-2024 00:59 | 837 | ||
buildsrc-summary.dcf | 12-Jul-2024 00:59 | 428 | ||
checksrc-out.txt | 12-Jul-2024 00:59 | 3.4K | ||
checksrc-summary.dcf | 12-Jul-2024 00:59 | 420 | ||
install-out.txt | 12-Jul-2024 00:59 | 958 | ||
install-summary.dcf | 12-Jul-2024 00:59 | 262 | ||