Name | Last modified | Size | Description | |
---|---|---|---|---|
Parent Directory | - | |||
install-summary.dcf | 12-Jul-2024 01:01 | 272 | ||
install-out.txt | 12-Jul-2024 01:01 | 1.0K | ||
checksrc-summary.dcf | 12-Jul-2024 01:01 | 450 | ||
checksrc-out.txt | 12-Jul-2024 01:01 | 3.5K | ||
buildsrc-summary.dcf | 12-Jul-2024 01:01 | 432 | ||
buildsrc-out.txt | 12-Jul-2024 01:01 | 823 | ||
buildbin-summary.dcf | 12-Jul-2024 01:01 | 539 | ||
buildbin-out.txt | 12-Jul-2024 01:01 | 1.2K | ||