Index of /checkResults/devel/bioc-LATEST/DNABarcodeCompatibility/raw-results/nebbiolo2
Name
Last modified
Size
Description
Parent Directory
-
buildsrc-out.txt
28-Jun-2024 00:37
964
buildsrc-summary.dcf
28-Jun-2024 00:37
370
install-out.txt
28-Jun-2024 00:37
687
install-summary.dcf
28-Jun-2024 00:37
293