Index of /checkResults/devel/bioc-LATEST/DNABarcodeCompatibility/raw-results/lconway
Name
Last modified
Size
Description
Parent Directory
-
buildsrc-out.txt
28-Jun-2024 00:38
1.0K
buildsrc-summary.dcf
28-Jun-2024 00:38
374
install-out.txt
28-Jun-2024 00:38
747
install-summary.dcf
28-Jun-2024 00:38
303