Name | Last modified | Size | Description | |
---|---|---|---|---|
Parent Directory | - | |||
install-summary.dcf | 17-Jul-2024 00:38 | 257 | ||
install-out.txt | 17-Jul-2024 00:38 | 949 | ||
checksrc-summary.dcf | 17-Jul-2024 00:38 | 410 | ||
checksrc-out.txt | 17-Jul-2024 00:38 | 3.8K | ||
buildsrc-summary.dcf | 17-Jul-2024 00:38 | 420 | ||
buildsrc-out.txt | 17-Jul-2024 00:38 | 866 | ||