Name | Last modified | Size | Description | |
---|---|---|---|---|
Parent Directory | - | |||
buildsrc-out.txt | 21-Jun-2024 01:14 | 862 | ||
buildsrc-summary.dcf | 21-Jun-2024 01:14 | 417 | ||
checksrc-out.txt | 21-Jun-2024 01:14 | 3.3K | ||
checksrc-summary.dcf | 21-Jun-2024 01:14 | 406 | ||
install-out.txt | 21-Jun-2024 01:14 | 946 | ||
install-summary.dcf | 21-Jun-2024 01:14 | 255 | ||