Name | Last modified | Size | Description | |
---|---|---|---|---|
Parent Directory | - | |||
install-summary.dcf | 29-Jun-2024 00:37 | 257 | ||
install-out.txt | 29-Jun-2024 00:37 | 716K | ||
buildsrc-summary.dcf | 29-Jun-2024 00:37 | 420 | ||
buildsrc-out.txt | 29-Jun-2024 00:37 | 1.2K | ||
checksrc-out.txt | 29-Jun-2024 00:37 | 13K | ||
checksrc-summary.dcf | 29-Jun-2024 00:37 | 416 | ||