Name | Last modified | Size | Description | |
---|---|---|---|---|
Parent Directory | - | |||
install-summary.dcf | 16-May-2024 02:46 | 268 | ||
install-out.txt | 16-May-2024 02:46 | 30K | ||
checksrc-summary.dcf | 16-May-2024 02:46 | 453 | ||
checksrc-out.txt | 16-May-2024 02:46 | 13K | ||
buildsrc-summary.dcf | 16-May-2024 02:46 | 426 | ||
buildsrc-out.txt | 16-May-2024 02:46 | 1.1K | ||