Name | Last modified | Size | Description | |
---|---|---|---|---|
Parent Directory | - | |||
install-summary.dcf | 06-Jul-2024 00:38 | 261 | ||
install-out.txt | 06-Jul-2024 00:38 | 963 | ||
checksrc-summary.dcf | 02-Jul-2024 00:38 | 422 | ||
checksrc-out.txt | 02-Jul-2024 00:38 | 4.5K | ||
buildsrc-summary.dcf | 06-Jul-2024 00:38 | 342 | ||
buildsrc-out.txt | 06-Jul-2024 00:38 | 2.2K | ||