Name | Last modified | Size | Description | |
---|---|---|---|---|
Parent Directory | - | |||
buildsrc-out.txt | 06-Jul-2024 00:44 | 2.2K | ||
buildsrc-summary.dcf | 06-Jul-2024 00:44 | 324 | ||
checksrc-out.txt | 02-Jul-2024 00:44 | 4.5K | ||
checksrc-summary.dcf | 02-Jul-2024 00:44 | 413 | ||
install-out.txt | 06-Jul-2024 00:44 | 945 | ||
install-summary.dcf | 06-Jul-2024 00:44 | 249 | ||